BEGIN:VCALENDAR
VERSION:2.0
PRODID:-//Steinhauerverein Weibern - ECPv6.15.20//NONSGML v1.0//EN
CALSCALE:GREGORIAN
METHOD:PUBLISH
X-ORIGINAL-URL:https://www.steinhauervereinweibern.de
X-WR-CALDESC:Veranstaltungen für Steinhauerverein Weibern
REFRESH-INTERVAL;VALUE=DURATION:PT1H
X-Robots-Tag:noindex
X-PUBLISHED-TTL:PT1H
BEGIN:VTIMEZONE
TZID:UTC
BEGIN:STANDARD
TZOFFSETFROM:+0000
TZOFFSETTO:+0000
TZNAME:UTC
DTSTART:20250101T000000
END:STANDARD
END:VTIMEZONE
BEGIN:VEVENT
DTSTART;TZID=UTC:20260523T130000
DTEND;TZID=UTC:20260523T150000
DTSTAMP:20260422T083635
CREATED:20241114T215805Z
LAST-MODIFIED:20251202T121600Z
UID:1315-1779541200-1779548400@www.steinhauervereinweibern.de
SUMMARY:Geo for Kids
DESCRIPTION:
URL:https://www.steinhauervereinweibern.de/event/geo-for-kids-3
LOCATION:Steinsägehaus\, C554+R7 Weibern\, Weibern\, 56745
END:VEVENT
END:VCALENDAR