BEGIN:VCALENDAR
VERSION:2.0
PRODID:-//Steinhauerverein Weibern - ECPv6.15.20//NONSGML v1.0//EN
CALSCALE:GREGORIAN
METHOD:PUBLISH
X-ORIGINAL-URL:https://www.steinhauervereinweibern.de
X-WR-CALDESC:Veranstaltungen für Steinhauerverein Weibern
REFRESH-INTERVAL;VALUE=DURATION:PT1H
X-Robots-Tag:noindex
X-PUBLISHED-TTL:PT1H
BEGIN:VTIMEZONE
TZID:UTC
BEGIN:STANDARD
TZOFFSETFROM:+0000
TZOFFSETTO:+0000
TZNAME:UTC
DTSTART:20250101T000000
END:STANDARD
END:VTIMEZONE
BEGIN:VEVENT
DTSTART;TZID=UTC:20260722T130000
DTEND;TZID=UTC:20260722T160000
DTSTAMP:20260424T095031
CREATED:20241114T220018Z
LAST-MODIFIED:20251202T122103Z
UID:1319-1784725200-1784736000@www.steinhauervereinweibern.de
SUMMARY:Geo for Kids im Rahmen Erlebniswoche Nacht der Vulkane
DESCRIPTION:
URL:https://www.steinhauervereinweibern.de/event/geo-for-kids-im-rahmen-erlebniswoche-nacht-der-vulkane
END:VEVENT
END:VCALENDAR