BEGIN:VCALENDAR
VERSION:2.0
PRODID:-//Steinhauerverein Weibern - ECPv6.15.20//NONSGML v1.0//EN
CALSCALE:GREGORIAN
METHOD:PUBLISH
X-ORIGINAL-URL:https://www.steinhauervereinweibern.de
X-WR-CALDESC:Veranstaltungen für Steinhauerverein Weibern
REFRESH-INTERVAL;VALUE=DURATION:PT1H
X-Robots-Tag:noindex
X-PUBLISHED-TTL:PT1H
BEGIN:VTIMEZONE
TZID:UTC
BEGIN:STANDARD
TZOFFSETFROM:+0000
TZOFFSETTO:+0000
TZNAME:UTC
DTSTART:20250101T000000
END:STANDARD
END:VTIMEZONE
BEGIN:VEVENT
DTSTART;TZID=UTC:20260829T160000
DTEND;TZID=UTC:20260829T233000
DTSTAMP:20260422T140356
CREATED:20260403T205152Z
LAST-MODIFIED:20260403T205152Z
UID:1854-1788019200-1788046200@www.steinhauervereinweibern.de
SUMMARY:Grillfest 2026
DESCRIPTION:Nur für Mitglieder und deren Patner/-innen
URL:https://www.steinhauervereinweibern.de/event/grillfest-2026
LOCATION:Sägehaus\, Weiben\, 56745
ORGANIZER;CN="Steinhauerverein":MAILTO:schnupperkurssteinhauer@t-online.de
END:VEVENT
END:VCALENDAR