BEGIN:VCALENDAR
VERSION:2.0
PRODID:-//Steinhauerverein Weibern - ECPv6.15.20//NONSGML v1.0//EN
CALSCALE:GREGORIAN
METHOD:PUBLISH
X-ORIGINAL-URL:https://www.steinhauervereinweibern.de
X-WR-CALDESC:Veranstaltungen für Steinhauerverein Weibern
REFRESH-INTERVAL;VALUE=DURATION:PT1H
X-Robots-Tag:noindex
X-PUBLISHED-TTL:PT1H
BEGIN:VTIMEZONE
TZID:UTC
BEGIN:STANDARD
TZOFFSETFROM:+0000
TZOFFSETTO:+0000
TZNAME:UTC
DTSTART:20250101T000000
END:STANDARD
END:VTIMEZONE
BEGIN:VEVENT
DTSTART;TZID=UTC:20260905T090000
DTEND;TZID=UTC:20260905T170000
DTSTAMP:20260422T140420
CREATED:20260209T120058Z
LAST-MODIFIED:20260209T120058Z
UID:1666-1788598800-1788627600@www.steinhauervereinweibern.de
SUMMARY:18. Schmiedekurs
DESCRIPTION:
URL:https://www.steinhauervereinweibern.de/event/18-schmiedekurs-3
LOCATION:Steinsägehaus\, C554+R7 Weibern\, Weibern\, 56745
ORGANIZER;CN="Steinhauerverein":MAILTO:schnupperkurssteinhauer@t-online.de
END:VEVENT
BEGIN:VEVENT
DTSTART;TZID=UTC:20260905T090000
DTEND;TZID=UTC:20260906T160000
DTSTAMP:20260422T140420
CREATED:20260209T115949Z
LAST-MODIFIED:20260209T115949Z
UID:1664-1788598800-1788710400@www.steinhauervereinweibern.de
SUMMARY:54. Schnupperkurs (Tuffstein)
DESCRIPTION:
URL:https://www.steinhauervereinweibern.de/event/54-schnupperkurs-tuffstein
LOCATION:Steinsägehaus\, C554+R7 Weibern\, Weibern\, 56745
ORGANIZER;CN="Steinhauerverein":MAILTO:schnupperkurssteinhauer@t-online.de
END:VEVENT
BEGIN:VEVENT
DTSTART;TZID=UTC:20260926T100000
DTEND;TZID=UTC:20260926T150000
DTSTAMP:20260422T140420
CREATED:20260420T174113Z
LAST-MODIFIED:20260420T174113Z
UID:1858-1790416800-1790434800@www.steinhauervereinweibern.de
SUMMARY:Hämmern Messdienertag Maria Laach
DESCRIPTION:Dankeschön für Messdienerinnen und Messdiener der Pastoralen Räume Sinzig\, Mayen\, Bad Neuenahr-Ahrweiler und Andernach. Ablauf: Workshop 1: 10.30 – 12.00 Uhr\, Mittagspause\, Workshop 2: 13.00 -14.30 Uhr
URL:https://www.steinhauervereinweibern.de/event/haemmern-messdienertag-maria-laach
END:VEVENT
END:VCALENDAR